BEGIN:VCALENDAR
VERSION:2.0
PRODID:-//Squarespace Inc/Squarespace 6//v6//EN
BEGIN:VEVENT
UID:54e3b3e3e4b0ebdf35139056@squarespace.com
DTSTAMP:20150217T213509Z
DTSTART:20150220T220000Z
DTEND:20150220T230000Z
SUMMARY:Devil Country Muster
END:VEVENT
END:VCALENDAR
