BEGIN:VCALENDAR
VERSION:2.0
PRODID:-//Squarespace Inc/Squarespace 6//v6//EN
BEGIN:VEVENT
UID:52a6af7ee4b049b53e3e741e@squarespace.com
DTSTAMP:20131210T063540Z
DTSTART:20140307T193000Z
DTEND:20140310T070000Z
SUMMARY:Rip Curl West Coast Surf Classic
END:VEVENT
END:VCALENDAR
