BEGIN:VCALENDAR
VERSION:2.0
PRODID:-//Squarespace Inc/Squarespace 6//v6//EN
BEGIN:VEVENT
UID:52a6b093e4b04c058c2b1f48@squarespace.com
DTSTAMP:20131210T063551Z
DTSTART:20141031T210000Z
DTEND:20141102T100000Z
SUMMARY:Melbourne to Stanley Yacht Race
END:VEVENT
END:VCALENDAR
