BEGIN:VCALENDAR
VERSION:2.0
PRODID:-//Squarespace Inc/Squarespace 6//v6//EN
BEGIN:VEVENT
UID:52a6aeb3e4b033709a8a0b2a@squarespace.com
DTSTAMP:20161119T015604Z
DTSTART:20161202T220000Z
DTEND:20161203T070000Z
SUMMARY:Circular Head Show
END:VEVENT
END:VCALENDAR
